BEGIN:VCALENDAR
VERSION:2.0
PRODID:-//NHMBB | Financing Community Growth - ECPv6.15.20//NONSGML v1.0//EN
CALSCALE:GREGORIAN
METHOD:PUBLISH
X-ORIGINAL-URL:https://nhmbb.com
X-WR-CALDESC:Events for NHMBB | Financing Community Growth
REFRESH-INTERVAL;VALUE=DURATION:PT1H
X-Robots-Tag:noindex
X-PUBLISHED-TTL:PT1H
BEGIN:VTIMEZONE
TZID:UTC
BEGIN:STANDARD
TZOFFSETFROM:+0000
TZOFFSETTO:+0000
TZNAME:UTC
DTSTART:20250101T000000
END:STANDARD
END:VTIMEZONE
BEGIN:VEVENT
DTSTART;TZID=UTC:20260417T080000
DTEND;TZID=UTC:20270417T170000
DTSTAMP:20260421T222737
CREATED:20260417T182447Z
LAST-MODIFIED:20260417T183038Z
UID:90845-1776412800-1807981200@nhmbb.com
SUMMARY:The Preliminary Official Statements for the 2026 Series B & C Refunding Bonds Released!
DESCRIPTION:The Preliminary Official Statement for the 2026 Series B and 2026 Series C Refunding Bonds can be found under the Investors tab.
URL:https://nhmbb.com/event/the-preliminary-official-statement-for-the-2026-series-b-c-released/
CATEGORIES:News
END:VEVENT
END:VCALENDAR